BEGIN:VCALENDAR
VERSION:2.0
PRODID:-//Squarespace Inc/Squarespace 6//v6//EN
BEGIN:VEVENT
UID:69160e52ebef14397ed1c7ad@squarespace.com
DTSTAMP:20251113T170045Z
DTSTART:20251221T160000Z
DTEND:20251221T170000Z
SUMMARY:4th Sunday of Advent
GEO:42.595832;-71.007374
LOCATION:Middleton Congregational Church\, 66 Maple Street\, Middleton\, MA
 \, United States
END:VEVENT
END:VCALENDAR
