BEGIN:VCALENDAR
VERSION:2.0
PRODID:-//Squarespace Inc/Squarespace 6//v6//EN
BEGIN:VEVENT
UID:69160e062f362b522d63a61c@squarespace.com
DTSTAMP:20251113T165852Z
DTSTART:20251214T160000Z
DTEND:20251214T170000Z
SUMMARY:3rd Sunday of Advent
GEO:42.59583;-71.007376
LOCATION:Middleton Congregational Church\, 66 Maple Street\, Middleton\, MA
 \, United States
END:VEVENT
END:VCALENDAR
