BEGIN:VCALENDAR
VERSION:2.0
PRODID:-//Squarespace Inc/Squarespace 6//v6//EN
BEGIN:VEVENT
UID:69160d810fb24f740981cb91@squarespace.com
DTSTAMP:20251113T165736Z
DTSTART:20251207T160000Z
DTEND:20251207T170000Z
SUMMARY:2nd Sunday of Advent
GEO:42.59583;-71.007376
LOCATION:Middleton Congregational Church\, 66 Maple Street\, Middleton\, MA
 \, United States
END:VEVENT
END:VCALENDAR
