BEGIN:VCALENDAR
VERSION:2.0
PRODID:-//Squarespace Inc/Squarespace 6//v6//EN
BEGIN:VEVENT
UID:69160cdf2674906d216910dc@squarespace.com
DTSTAMP:20251113T165523Z
DTSTART:20251130T160000Z
DTEND:20251130T170000Z
SUMMARY:1st Sunday of Advent
GEO:42.595832;-71.007374
LOCATION:Middleton Congregational Church\, 66 Maple Street\, Middleton\, MA
 \, United States
END:VEVENT
END:VCALENDAR
